BEGIN:VCALENDAR
VERSION:2.0
PRODID:-//ZContent.net//ZapCalLib 1.0//EN
CALSCALE:GREGORIAN
METHOD:PUBLISH
BEGIN:VEVENT
SUMMARY:Brainlab Novalis Circle Webinar (Spanish only) 
DTSTART:20250619T140000Z
DTEND:20250619T150000Z
URL:https://www.novaliscircle.org/page/view-event-profile?id=131
UID:2e17002e5d6e6d997e948af0bf0e0071
DTSTAMP:20260421T191710
LOCATION:online
X-ALT-DESC;FMTTYPE=text/html:<p>Brainlab Novalis Circle le invita a unirse 
 a el proximo webinar en directo <strong style="color: rgb(238\, 35\, 117)\
 ;">Avances en el tratamiento de las metÃ¡stasis cerebrales mÃºltiples: AnÃ
 ¡lisis y experiencia institucional.</strong></p><p>En este webinarÂ aborda
 remos el tratamiento de las metÃ¡stasis cerebrales mÃºltiples\, con especi
 al atenciÃ³n a los enfoques terapÃ©uticos innovadores y la experiencia ins
 titucional. Descubre cÃ³mo las tecnologÃ­as innovadoras pueden ofrecer res
 ultados prometedores para los pacientes con metÃ¡stasis cerebrales mÃºltip
 les.</p><ul><li>Â Â <strong style="color: rgb(238\, 35\, 117)\;">Tratamien
 to de MetÃ¡stasis MÃºltiples CerebralesÂ </strong></li></ul><p style="marg
 in-left: 60px\;"><strong>Sergio Moreno-JimÃ©nez</strong>\, MD\,Â Instituto
  Nacional de NeurologÃ­a y Neurocirugia (INNN)\, Mexico City\, MÃ©xico</p>
 <ul><li><strong style="color: rgb(238\, 35\, 117)\;">Tratamiento de metÃ¡s
 tasis cerebrales mÃºltiples con isocentro Ãºnico: Experiencia Instituciona
 </strong><span style="color: rgb(238\, 35\, 117)\;">l</span></li></ul><p s
 tyle="margin-left: 60px\;"><strong><a class="bx-mention-link" href="https:
 //www.novaliscircle.org/page/view-persons-profile?id=9876" title="Raquel C
 iervide" dchar="@" data-profile-id="20688">@Raquel Ciervide</a></strong>\,
  MD PhD\, HM Hospital Universitario Sanchinarro\, Madrid\, EspaÃ±a</p><p>Â
 ¡Esperamos encontrarnos con usted en lÃ­nea!</p><p><strong>La participaciÃ
 ³n sÃ³lo es posible para los miembros del Novalis Circle. Si aÃºn no es mi
 embro\, haga clic </strong><a href="https://id.brainlab.com/request-an-acc
 ount/?service=novalis" target="_blank" style="color: rgb(238\, 35\, 117)\;
 "><strong>aquÃ­.</strong></a></p><p>\n</p>
BEGIN:VALARM
TRIGGER:-PT1H
ACTION:DISPLAY
DESCRIPTION:Event Brainlab Novalis Circle Webinar (Spanish only)  will star
 t in 1 hour
END:VALARM
END:VEVENT
END:VCALENDAR
