BEGIN:VCALENDAR
VERSION:2.0
PRODID:-//ZContent.net//ZapCalLib 1.0//EN
CALSCALE:GREGORIAN
METHOD:PUBLISH
BEGIN:VEVENT
SUMMARY:ASTRO 2025 - Brainlab Novalis Circle Webinar 
DTSTART:20250924T200000Z
DTEND:20250924T210000Z
URL:https://www.novaliscircle.org/page/view-event-profile?id=134
UID:4a1fdeb221cdf546e5a2954da6758764
DTSTAMP:20260421T191949
LOCATION:https://www.novaliscircle.org/page/view-event-profile?id=134
X-ALT-DESC;FMTTYPE=text/html:<p>You're invited to a Brainlab Novalis Circle
  webinar on Wednesday\, September 24\, taking place just ahead of the ASTR
 O Annual Meeting.</p><p><strong style="color:rgb(238\,35\,117)\;">Improved
  decision making with longitudinal brain metastases management</strong></
 p><p>Join us for two expert presentations highlighting the latest advancem
 ents in radiosurgery for brain metastases. The session will conclude with 
 an interactive Q&amp\;A.</p><h4><strong>Agenda:</strong></h4><p><strong>Ea
 rly retreatment based on Elements Contrast Clearance Analysis leads to imp
 roved outcomes in patients with brain metastases</strong></p><p><span styl
 e="color:rgb(238\,35\,117)\;"><a href="https://www.novaliscircle.org/page/
 view-persons-profile?id=10915" title="Dheerendra Prasad" dchar="@" data-pr
 ofile-id="23276" class="bx-mention-link bx-link">@Dheerendra Prasad</a></s
 pan><span style="color:rgb(0\,0\,0)\;">\, MD\, Roswell Park Comprehensive 
 Cancer Center\, Buffalo\, NY\, USA</span></p><p><strong style="color:rgb(0
 \,0\,0)\;">Clinical workflow optimization via new AI solutions </strong><
 /p><p><span style="color:rgb(238\,35\,117)\;"><a href="https://www.novalis
 circle.org/page/view-persons-profile?id=10259" title="Wenyin Shi" dchar="@
 " data-profile-id="21582" class="bx-mention-link bx-link">@Wenyin Shi</a><
 /span><span style="color:rgb(0\,0\,0)\;">\, MD\, PhD\, Thomas Jefferson U
 niversity Hospital\, Philadelphia\, PA\, USA</span></p><p>Date: Wednesday\
 , September 24\, 2025</p><p>Time: 1:00 PM PT | 4:00 PM ET | 10:00 PM CET</
 p><p>Don't miss this opportunity to hear from leading researchers and clin
 icians shaping the future of radiosurgical treatment.</p><p>We look forwar
 d to seeing you there!</p>
BEGIN:VALARM
TRIGGER:-PT1H
ACTION:DISPLAY
DESCRIPTION:Event ASTRO 2025 - Brainlab Novalis Circle Webinar  will start 
 in 1 hour
END:VALARM
END:VEVENT
END:VCALENDAR
