BEGIN:VCALENDAR
VERSION:2.0
PRODID:-//ZContent.net//ZapCalLib 1.0//EN
CALSCALE:GREGORIAN
METHOD:PUBLISH
BEGIN:VEVENT
SUMMARY:Brainlab Mid-Atlantic Regional Symposium
DTSTART:20260508T160000Z
DTEND:20260509T160000Z
URL:https://www.novaliscircle.org/page/view-event-profile?id=142
UID:9b05f1a2e236a49267de8436f172f3ab
DTSTAMP:20260424T194329
LOCATION:The Union League of Philadelphia\n140 S Broad St\,\nPhiladelphia\,
  PA 19102\,\nUnited States
X-ALT-DESC;FMTTYPE=text/html:<p>Join us in <strong>Philadelphia</strong> fo
 r our <strong style="color: rgb(238\, 35\, 117)\;">Mid-Atlantic Regional S
 ymposium </strong>with insightful clinical talks by renowned clinical expe
 rts and inspirational discussions on SRS and SBRT.</p><p>Experience cuttin
 g edge of radiotherapy and radiosurgery at our exciting two days symposium
  focused on precision\, personalization\, and standardization in Stereotac
 tic Radiosurgery (SRS) and Stereotactic Body Radiation Therapy (SBRT).</p>
 <p>This event will bring together medical physicists\, dosimetrists\, radi
 ation oncologists and radiation therapists to share valuable clinical tech
 niques and innovative management strategies\, as well as to gain insights 
 into how complex data is reshaping the field of radiosurgery.</p><p><stron
 g>Brainlab Mid-Atlantic Regional Symposium</strong></p><p><strong>May 8 an
 d 9\, 2026</strong></p><p><strong style="background-color: rgb(255\, 255\,
  255)\; color: rgb(0\, 0\, 0)\;">Click</strong><a href="https://events.bra
 inlab.com/events/brainlab-mid-atlantic-regional-symposium/program/" rel="n
 oopener noreferrer" target="_blank" style="background-color: rgb(255\, 255
 \, 255)\; color: rgb(0\, 0\, 0)\;"> here </a><strong style="background-col
 or: rgb(255\, 255\, 255)\; color: rgb(0\, 0\, 0)\;">to have the program.</
 strong></p><p>We look forward to welcoming you to Philadelphia for this in
 spiring event!</p><p>To register click <a href="https://events.brainlab.co
 m/events/brainlab-mid-atlantic-regional-symposium/registration/" rel="noop
 ener noreferrer" target="_blank">here</a></p>
BEGIN:VALARM
TRIGGER:-PT1H
ACTION:DISPLAY
DESCRIPTION:Event Brainlab Mid-Atlantic Regional Symposium will start in 1 
 hour
END:VALARM
END:VEVENT
END:VCALENDAR
